BEGIN:VCALENDAR
VERSION:2.0
PRODID:-//Firekeepers - ECPv5.0.0//NONSGML v1.0//EN
CALSCALE:GREGORIAN
METHOD:PUBLISH
X-WR-CALNAME:Firekeepers
X-ORIGINAL-URL:http://www.firekeepers.com.au
X-WR-CALDESC:Events for Firekeepers
BEGIN:VTIMEZONE
TZID:Australia/Melbourne
BEGIN:STANDARD
TZOFFSETFROM:+1100
TZOFFSETTO:+1000
TZNAME:AEST
DTSTART:20200404T160000
END:STANDARD
BEGIN:DAYLIGHT
TZOFFSETFROM:+1000
TZOFFSETTO:+1100
TZNAME:AEDT
DTSTART:20201003T160000
END:DAYLIGHT
END:VTIMEZONE
BEGIN:VEVENT
DTSTART;TZID=Australia/Melbourne:20200202T190000
DTEND;TZID=Australia/Melbourne:20200202T203000
DTSTAMP:20200229T113039
CREATED:20200130T004738Z
LAST-MODIFIED:20200130T004738Z
UID:2067-1580670000-1580675400@www.firekeepers.com.au
SUMMARY:Sharing Circle- Online Sacred Space
DESCRIPTION: \nAn opportunity to come together with community\, to listen and be heard\, to create sacred space together. \nWe acknowledge the Wurundjeri people of the Kulin nation as the traditional custodians of the land where we live. We pay our respects to their elders past and present and express our deep gratitude for their ongoing care of this land. We celebrate the continuation of Aboriginal cultures and emerging Aboriginal leaders. Sovereignty of this land has never been ceded. \nWe (Kiri and Melissa) would like to invite you to join us for an online sharing circle. We will be using Zoom to hold a 90 minute space for sharing what is alive for each of us as we turn toward the unfolding climate crisis. \nWe have gained much solace from the face to face gatherings we have attended in recent weeks. One thing that gives us hope in all this is the way communities have banded together in mutual care and support. We are aware that not everyone has the opportunity to access these kinds of circles and spaces. We hope that offering an online space will give more people a chance to experience the solace of sharing and being witnessed in their feelings. \nOur grief for the Earth is part of our love\, part of what inspires right action and right relationship. When we come together in community to share the feelings that are alive in us we create opportunities for connection. \nWe are grateful for the technology that allows us to convene this space and are taking this opportunity to experiment with creating connection and a sense of sacred space online. Thank you for joining us in this experiment. \nSunday 2nd February 2020 7pm – 8.30pm AEST \nRegistration via the following link essential:\nhttps://zoom.us/meeting/register/vpcodO-grD0vCe7maloir3FbZRNPzZ3rfg \nYou can find out more about your hosts by visiting:\nKiri: www.kiribear.com or www.humansarenature.com\nMelissa: www.firekeepers.com.au \n
URL:http://www.firekeepers.com.au/event/sharing-circle-feb/
LOCATION:Online- via Zoom
CATEGORIES:Adults Programs,Community,Free Community Event,Outreach
ORGANIZER;CN="Firekeepers":MAILTO:mel@firekeepers.com.au
END:VEVENT
END:VCALENDAR